BEGIN:VCALENDAR
VERSION:2.0
PRODID:-//Hotel Glocknerhof - ECPv6.15.17.1//NONSGML v1.0//EN
CALSCALE:GREGORIAN
METHOD:PUBLISH
X-WR-CALNAME:Hotel Glocknerhof
X-ORIGINAL-URL:https://glocknerhof.at/it/
X-WR-CALDESC:Eventi per Hotel Glocknerhof
REFRESH-INTERVAL;VALUE=DURATION:PT1H
X-Robots-Tag:noindex
X-PUBLISHED-TTL:PT1H
BEGIN:VTIMEZONE
TZID:Europe/Vienna
BEGIN:DAYLIGHT
TZOFFSETFROM:+0100
TZOFFSETTO:+0200
TZNAME:CEST
DTSTART:20210328T010000
END:DAYLIGHT
BEGIN:STANDARD
TZOFFSETFROM:+0200
TZOFFSETTO:+0100
TZNAME:CET
DTSTART:20211031T010000
END:STANDARD
BEGIN:DAYLIGHT
TZOFFSETFROM:+0100
TZOFFSETTO:+0200
TZNAME:CEST
DTSTART:20220327T010000
END:DAYLIGHT
BEGIN:STANDARD
TZOFFSETFROM:+0200
TZOFFSETTO:+0100
TZNAME:CET
DTSTART:20221030T010000
END:STANDARD
BEGIN:DAYLIGHT
TZOFFSETFROM:+0100
TZOFFSETTO:+0200
TZNAME:CEST
DTSTART:20230326T010000
END:DAYLIGHT
BEGIN:STANDARD
TZOFFSETFROM:+0200
TZOFFSETTO:+0100
TZNAME:CET
DTSTART:20231029T010000
END:STANDARD
END:VTIMEZONE
BEGIN:VEVENT
DTSTART;VALUE=DATE:20220507
DTEND;VALUE=DATE:20220513
DTSTAMP:20260420T080804
CREATED:20220225T223008Z
LAST-MODIFIED:20220225T223008Z
UID:43088-1651881600-1652399999@glocknerhof.at
SUMMARY:Raduno di elicotteri in scala
DESCRIPTION:Il luogo di incontro dei piloti di elicotteri in scala. Venite a trovarci!
URL:https://glocknerhof.at/it/eventi/raduno-di-elicotteri-in-scala/
LOCATION:Hotel Glocknerhof\, Berg 43\, Berg im Drautal\, Carinzia\, 9771\, Österreich
CATEGORIES:Aeromodellismo
ATTACH;FMTTYPE=image/jpeg:https://glocknerhof.at/wp-content/uploads/titel-flugschule-helikopter.jpg
ORGANIZER;CN="Famiglia Seywald":MAILTO:hotel@glocknerhof.at
END:VEVENT
END:VCALENDAR