BEGIN:VCALENDAR
VERSION:2.0
PRODID:-//Hotel Glocknerhof - ECPv6.15.17.1//NONSGML v1.0//EN
CALSCALE:GREGORIAN
METHOD:PUBLISH
X-WR-CALNAME:Hotel Glocknerhof
X-ORIGINAL-URL:https://glocknerhof.at/it/
X-WR-CALDESC:Eventi per Hotel Glocknerhof
REFRESH-INTERVAL;VALUE=DURATION:PT1H
X-Robots-Tag:noindex
X-PUBLISHED-TTL:PT1H
BEGIN:VTIMEZONE
TZID:Europe/Vienna
BEGIN:DAYLIGHT
TZOFFSETFROM:+0100
TZOFFSETTO:+0200
TZNAME:CEST
DTSTART:20250330T010000
END:DAYLIGHT
BEGIN:STANDARD
TZOFFSETFROM:+0200
TZOFFSETTO:+0100
TZNAME:CET
DTSTART:20251026T010000
END:STANDARD
BEGIN:DAYLIGHT
TZOFFSETFROM:+0100
TZOFFSETTO:+0200
TZNAME:CEST
DTSTART:20260329T010000
END:DAYLIGHT
BEGIN:STANDARD
TZOFFSETFROM:+0200
TZOFFSETTO:+0100
TZNAME:CET
DTSTART:20261025T010000
END:STANDARD
BEGIN:DAYLIGHT
TZOFFSETFROM:+0100
TZOFFSETTO:+0200
TZNAME:CEST
DTSTART:20270328T010000
END:DAYLIGHT
BEGIN:STANDARD
TZOFFSETFROM:+0200
TZOFFSETTO:+0100
TZNAME:CET
DTSTART:20271031T010000
END:STANDARD
END:VTIMEZONE
BEGIN:VEVENT
DTSTART;VALUE=DATE:20260430
DTEND;VALUE=DATE:20260504
DTSTAMP:20260420T233813
CREATED:20250519T212108Z
LAST-MODIFIED:20250519T213740Z
UID:43110-1777507200-1777852799@glocknerhof.at
SUMMARY:27° Raduno Mercedes Cabrio
DESCRIPTION:Viaggi congiunti con Mercedes cabrio e tanto divertimento in primavera. Ulteriori informazioni: Raduno di Mercedes Cabrio
URL:https://glocknerhof.at/it/eventi/24-raduno-di-mercedes-cabrio/
LOCATION:Hotel Glocknerhof\, Berg 43\, Berg im Drautal\, Carinzia\, 9771\, Österreich
CATEGORIES:Macchina
ATTACH;FMTTYPE=image/jpeg:https://glocknerhof.at/wp-content/uploads/Cabriotreffen-Pauschale.jpg
ORGANIZER;CN="Famiglia Seywald":MAILTO:hotel@glocknerhof.at
END:VEVENT
BEGIN:VEVENT
DTSTART;VALUE=DATE:20260908
DTEND;VALUE=DATE:20260914
DTSTAMP:20260420T233813
CREATED:20231017T192954Z
LAST-MODIFIED:20250324T161220Z
UID:43106-1788825600-1789343999@glocknerhof.at
SUMMARY:Harley Meeting Carinzia – Settimana europea della bicicletta
DESCRIPTION:Il Glocknerhof è un’ottima base per visitare il meeting Harley Davidson di Faak am See. Maggiori informazioni sui tour in moto in Carinzia: Motociclismo in vacanze
URL:https://glocknerhof.at/it/eventi/harley-meeting-carinzia-settimana-europea-della-bicicletta/
LOCATION:Lago di Faak
CATEGORIES:Macchina
ATTACH;FMTTYPE=image/jpeg:https://glocknerhof.at/wp-content/uploads/bike-week-harley-davidson-carinthia.jpg
END:VEVENT
END:VCALENDAR